BEGIN:VCALENDAR
VERSION:2.0
PRODID:UR_EVENTS
BEGIN:VTIMEZONE
TZID:Europe/Berlin
LAST-MODIFIED:20231023T084849Z
BEGIN:STANDARD
DTSTART:20231029T030000
RRULE:FREQ=YEARLY;BYMONTH=10;BYDAY=-1SU
TZOFFSETFROM:+0200
TZOFFSETTO:+0100
TZNAME:CET
END:STANDARD
BEGIN:DAYLIGHT
DTSTART:20240331T020000
RRULE:FREQ=YEARLY;BYMONTH=3;BYDAY=-1SU
TZOFFSETFROM:+0100
TZOFFSETTO:+0200
TZNAME:CEST
END:DAYLIGHT
END:VTIMEZONE
BEGIN:VEVENT
UID:iai/news238
DTSTAMP:20250213T110411Z
DTSTART:20080227T230000Z
DTEND:20080229T230000Z
SUMMARY:Der Spanische Bürgerkrieg in der DDR: Strategien intermedialer Erinnerungsbildung
DESCRIPTION:Weitere Informationen: https://www.iai.spk-berlin.de/veranstaltungen/veranstaltung/28-02-2008_der-spanische-buergerkrieg-in-der-ddr-strategien-intermedialer-erinnerungsbildung-1.html
END:VEVENT
END:VCALENDAR
