BEGIN:VCALENDAR
VERSION:2.0
PRODID:UR_EVENTS
BEGIN:VTIMEZONE
TZID:Europe/Berlin
LAST-MODIFIED:20231023T084849Z
BEGIN:STANDARD
DTSTART:20231029T030000
RRULE:FREQ=YEARLY;BYMONTH=10;BYDAY=-1SU
TZOFFSETFROM:+0200
TZOFFSETTO:+0100
TZNAME:CET
END:STANDARD
BEGIN:DAYLIGHT
DTSTART:20240331T020000
RRULE:FREQ=YEARLY;BYMONTH=3;BYDAY=-1SU
TZOFFSETFROM:+0100
TZOFFSETTO:+0200
TZNAME:CEST
END:DAYLIGHT
END:VTIMEZONE
BEGIN:VEVENT
UID:iai/news5990
DTSTAMP:20251121T110834Z
DTSTART:20251127T163000Z
DTEND:20251127T183000Z
SUMMARY:Por ti, Portugal, eu juro!
DESCRIPTION:Weitere Informationen: https://www.iai.spk-berlin.de/veranstaltungen/veranstaltung/27-11-2025_por-ti-portugal-eu-juro.html
END:VEVENT
END:VCALENDAR
