BEGIN:VCALENDAR
VERSION:2.0
PRODID:UR_EVENTS
BEGIN:VTIMEZONE
TZID:Europe/Berlin
LAST-MODIFIED:20231023T084849Z
BEGIN:STANDARD
DTSTART:20231029T030000
RRULE:FREQ=YEARLY;BYMONTH=10;BYDAY=-1SU
TZOFFSETFROM:+0200
TZOFFSETTO:+0100
TZNAME:CET
END:STANDARD
BEGIN:DAYLIGHT
DTSTART:20240331T020000
RRULE:FREQ=YEARLY;BYMONTH=3;BYDAY=-1SU
TZOFFSETFROM:+0100
TZOFFSETTO:+0200
TZNAME:CEST
END:DAYLIGHT
END:VTIMEZONE
BEGIN:VEVENT
UID:iai/news1398
DTSTAMP:20240619T164137Z
DTSTART:20230524T220000Z
DTEND:20230527T220000Z
SUMMARY:Políticas, Ideologías y Actitudes lingüísticas en la España y América de los siglos XVIII y XIX (POLIALEAM)
DESCRIPTION:Weitere Informationen: https://www.iai.spk-berlin.de/veranstaltungen/veranstaltung/25-05-2023_politicas-ideologias-y-actitudes-lingueisticas-en-la-espana-y-america-de-los-siglos-xviii-y-xix-polialeam.html
END:VEVENT
END:VCALENDAR
