BEGIN:VCALENDAR
VERSION:2.0
PRODID:UR_EVENTS
BEGIN:VTIMEZONE
TZID:Europe/Berlin
LAST-MODIFIED:20231023T084849Z
BEGIN:STANDARD
DTSTART:20231029T030000
RRULE:FREQ=YEARLY;BYMONTH=10;BYDAY=-1SU
TZOFFSETFROM:+0200
TZOFFSETTO:+0100
TZNAME:CET
END:STANDARD
BEGIN:DAYLIGHT
DTSTART:20240331T020000
RRULE:FREQ=YEARLY;BYMONTH=3;BYDAY=-1SU
TZOFFSETFROM:+0100
TZOFFSETTO:+0200
TZNAME:CEST
END:DAYLIGHT
END:VTIMEZONE
BEGIN:VEVENT
UID:iai/news1449
DTSTAMP:20241122T161431Z
DTSTART:20240124T230000Z
DTEND:20240125T230000Z
SUMMARY:¿Quo vadis Argentina? El gobierno de Milei y la crisis de la democracia
DESCRIPTION:Weitere Informationen: https://www.iai.spk-berlin.de/veranstaltungen/veranstaltung/25-01-2024_quo-vadis-argentina-el-gobierno-de-milei-y-la-crisis-de-la-democracia.html
END:VEVENT
END:VCALENDAR
