BEGIN:VCALENDAR
VERSION:2.0
PRODID:UR_EVENTS
BEGIN:VTIMEZONE
TZID:Europe/Berlin
LAST-MODIFIED:20231023T084849Z
BEGIN:STANDARD
DTSTART:20231029T030000
RRULE:FREQ=YEARLY;BYMONTH=10;BYDAY=-1SU
TZOFFSETFROM:+0200
TZOFFSETTO:+0100
TZNAME:CET
END:STANDARD
BEGIN:DAYLIGHT
DTSTART:20240331T020000
RRULE:FREQ=YEARLY;BYMONTH=3;BYDAY=-1SU
TZOFFSETFROM:+0100
TZOFFSETTO:+0200
TZNAME:CEST
END:DAYLIGHT
END:VTIMEZONE
BEGIN:VEVENT
UID:iai/news499
DTSTAMP:20240619T164013Z
DTSTART:20110519T220000Z
DTEND:20110520T220000Z
SUMMARY:Die Musik Paraguays seit der Unabhängigkeit
DESCRIPTION:Weitere Informationen: https://www.iai.spk-berlin.de/veranstaltungen/veranstaltung/20-05-2011_die-musik-paraguays-seit-der-unabhaengigkeit.html
END:VEVENT
END:VCALENDAR
