BEGIN:VCALENDAR
VERSION:2.0
PRODID:UR_EVENTS
BEGIN:VTIMEZONE
TZID:Europe/Berlin
LAST-MODIFIED:20231023T084849Z
BEGIN:STANDARD
DTSTART:20231029T030000
RRULE:FREQ=YEARLY;BYMONTH=10;BYDAY=-1SU
TZOFFSETFROM:+0200
TZOFFSETTO:+0100
TZNAME:CET
END:STANDARD
BEGIN:DAYLIGHT
DTSTART:20240331T020000
RRULE:FREQ=YEARLY;BYMONTH=3;BYDAY=-1SU
TZOFFSETFROM:+0100
TZOFFSETTO:+0200
TZNAME:CEST
END:DAYLIGHT
END:VTIMEZONE
BEGIN:VEVENT
UID:iai/news171
DTSTAMP:20240619T163841Z
DTSTART:20071115T230000Z
DTEND:20071116T230000Z
SUMMARY:A World on the Move between Knowledge &quot;Hotspots&quot; and &quot;Cold Deserts&quot;
DESCRIPTION:Weitere Informationen: https://www.iai.spk-berlin.de/veranstaltungen/veranstaltung/16-11-2007_a-world-on-the-move-between-knowledge-hotspots-and-cold-deserts.html
END:VEVENT
END:VCALENDAR
