BEGIN:VCALENDAR
VERSION:2.0
PRODID:UR_EVENTS
BEGIN:VTIMEZONE
TZID:Europe/Berlin
LAST-MODIFIED:20231023T084849Z
BEGIN:STANDARD
DTSTART:20231029T030000
RRULE:FREQ=YEARLY;BYMONTH=10;BYDAY=-1SU
TZOFFSETFROM:+0200
TZOFFSETTO:+0100
TZNAME:CET
END:STANDARD
BEGIN:DAYLIGHT
DTSTART:20240331T020000
RRULE:FREQ=YEARLY;BYMONTH=3;BYDAY=-1SU
TZOFFSETFROM:+0100
TZOFFSETTO:+0200
TZNAME:CEST
END:DAYLIGHT
END:VTIMEZONE
BEGIN:VEVENT
UID:iai/news720
DTSTAMP:20250213T114359Z
DTSTART:20140614T000000Z
DTEND:20140920T000000Z
SUMMARY:„Die größte Katastrophe der Menschheitsgeschichte“ –Lateinamerika und der Erste Weltkrieg
DESCRIPTION:Weitere Informationen: https://www.iai.spk-berlin.de/veranstaltungen/veranstaltung/14-06-2014_die-groesste-katastrophe-der-menschheitsgeschichte-lateinamerika-und-der-erste-weltkrieg.html
END:VEVENT
END:VCALENDAR
