BEGIN:VCALENDAR
VERSION:2.0
PRODID:UR_EVENTS
BEGIN:VTIMEZONE
TZID:Europe/Berlin
LAST-MODIFIED:20231023T084849Z
BEGIN:STANDARD
DTSTART:20231029T030000
RRULE:FREQ=YEARLY;BYMONTH=10;BYDAY=-1SU
TZOFFSETFROM:+0200
TZOFFSETTO:+0100
TZNAME:CET
END:STANDARD
BEGIN:DAYLIGHT
DTSTART:20240331T020000
RRULE:FREQ=YEARLY;BYMONTH=3;BYDAY=-1SU
TZOFFSETFROM:+0100
TZOFFSETTO:+0200
TZNAME:CEST
END:DAYLIGHT
END:VTIMEZONE
BEGIN:VEVENT
UID:iai/news6047
DTSTAMP:20251205T104704Z
DTSTART:20251210T080000Z
DTEND:20251210T100000Z
SUMMARY:Oralidad sin fronteras: la voz y sus resonancias de los impresos populares a las nuevas tecnologías sonoras
DESCRIPTION:Weitere Informationen: https://www.iai.spk-berlin.de/veranstaltungen/veranstaltung/10-12-2025_oralidad-sin-fronteras-la-voz-y-sus-resonancias-de-los-impresos-populares-a-las-nuevas-tecnologias-sonoras-parte-ii.html
END:VEVENT
END:VCALENDAR
