BEGIN:VCALENDAR
VERSION:2.0
PRODID:UR_EVENTS
BEGIN:VTIMEZONE
TZID:Europe/Berlin
LAST-MODIFIED:20231023T084849Z
BEGIN:STANDARD
DTSTART:20231029T030000
RRULE:FREQ=YEARLY;BYMONTH=10;BYDAY=-1SU
TZOFFSETFROM:+0200
TZOFFSETTO:+0100
TZNAME:CET
END:STANDARD
BEGIN:DAYLIGHT
DTSTART:20240331T020000
RRULE:FREQ=YEARLY;BYMONTH=3;BYDAY=-1SU
TZOFFSETFROM:+0100
TZOFFSETTO:+0200
TZNAME:CEST
END:DAYLIGHT
END:VTIMEZONE
BEGIN:VEVENT
UID:iai/news1528
DTSTAMP:20250124T130418Z
DTSTART:20241016T060000Z
DTEND:20241209T180000Z
SUMMARY:Tras los pasos de Teobert Maler – Proyectos arqueológicos en Campeche, México
DESCRIPTION:Mais informações: https://www.iai.spk-berlin.de/pt/eventos/calendario-de-eventos/evento/16-10-2024_auf-den-spuren-teobert-malers-archaeologische-projekte-in-campeche-mexiko.html
END:VEVENT
END:VCALENDAR
