BEGIN:VCALENDAR
VERSION:2.0
PRODID:UR_EVENTS
BEGIN:VTIMEZONE
TZID:Europe/Berlin
LAST-MODIFIED:20231023T084849Z
BEGIN:STANDARD
DTSTART:20231029T030000
RRULE:FREQ=YEARLY;BYMONTH=10;BYDAY=-1SU
TZOFFSETFROM:+0200
TZOFFSETTO:+0100
TZNAME:CET
END:STANDARD
BEGIN:DAYLIGHT
DTSTART:20240331T020000
RRULE:FREQ=YEARLY;BYMONTH=3;BYDAY=-1SU
TZOFFSETFROM:+0100
TZOFFSETTO:+0200
TZNAME:CEST
END:DAYLIGHT
END:VTIMEZONE
BEGIN:VEVENT
UID:iai/news5551
DTSTAMP:20250804T122805Z
DTSTART:20250516T060000Z
DTEND:20250630T160000Z
SUMMARY:Aufbruch in ein fremdes Land – eine Ausstellung über 200 Jahre deutschsprachige Auswanderung nach Brasilien
DESCRIPTION:Mais informações: https://www.iai.spk-berlin.de/pt/eventos/calendario-de-eventos/evento/16-05-2025_aufbruch-in-ein-fremdes-land-eine-ausstellung-ueber-200-jahre-deutschsprachige-auswanderung-nach-brasilien.html
END:VEVENT
END:VCALENDAR
