BEGIN:VCALENDAR
VERSION:2.0
PRODID:UR_EVENTS
BEGIN:VTIMEZONE
TZID:Europe/Berlin
LAST-MODIFIED:20231023T084849Z
BEGIN:STANDARD
DTSTART:20231029T030000
RRULE:FREQ=YEARLY;BYMONTH=10;BYDAY=-1SU
TZOFFSETFROM:+0200
TZOFFSETTO:+0100
TZNAME:CET
END:STANDARD
BEGIN:DAYLIGHT
DTSTART:20240331T020000
RRULE:FREQ=YEARLY;BYMONTH=3;BYDAY=-1SU
TZOFFSETFROM:+0100
TZOFFSETTO:+0200
TZNAME:CEST
END:DAYLIGHT
END:VTIMEZONE
BEGIN:VEVENT
UID:iai/news6192
DTSTAMP:20260423T085343Z
DTSTART:20260505T160000Z
DTEND:20260505T173000Z
SUMMARY:Artesanía del Paraguay – Técnicas culturales y expresiones de identidad
DESCRIPTION:Mais informações: https://www.iai.spk-berlin.de/pt/eventos/calendario-de-eventos/evento/05-05-2026_artesania-del-paraguay-tecnicas-culturales-y-expresiones-de-identidad.html
END:VEVENT
END:VCALENDAR
