BEGIN:VCALENDAR
VERSION:2.0
PRODID:UR_EVENTS
BEGIN:VTIMEZONE
TZID:Europe/Berlin
LAST-MODIFIED:20231023T084849Z
BEGIN:STANDARD
DTSTART:20231029T030000
RRULE:FREQ=YEARLY;BYMONTH=10;BYDAY=-1SU
TZOFFSETFROM:+0200
TZOFFSETTO:+0100
TZNAME:CET
END:STANDARD
BEGIN:DAYLIGHT
DTSTART:20240331T020000
RRULE:FREQ=YEARLY;BYMONTH=3;BYDAY=-1SU
TZOFFSETFROM:+0100
TZOFFSETTO:+0200
TZNAME:CEST
END:DAYLIGHT
END:VTIMEZONE
BEGIN:VEVENT
UID:iai/news1626
DTSTAMP:20250124T123139Z
DTSTART:20241206T200000Z
DTEND:20241206T230000Z
SUMMARY:10 MUSEEN X 10 KONZERTE
DESCRIPTION:Más información: https://www.iai.spk-berlin.de/es/eventos/calendario-de-eventos/evento/06-12-2024_10-museen-x-10-konzerte.html
END:VEVENT
END:VCALENDAR
