BEGIN:VCALENDAR
VERSION:2.0
PRODID:UR_EVENTS
BEGIN:VTIMEZONE
TZID:Europe/Berlin
LAST-MODIFIED:20231023T084849Z
BEGIN:STANDARD
DTSTART:20231029T030000
RRULE:FREQ=YEARLY;BYMONTH=10;BYDAY=-1SU
TZOFFSETFROM:+0200
TZOFFSETTO:+0100
TZNAME:CET
END:STANDARD
BEGIN:DAYLIGHT
DTSTART:20240331T020000
RRULE:FREQ=YEARLY;BYMONTH=3;BYDAY=-1SU
TZOFFSETFROM:+0100
TZOFFSETTO:+0200
TZNAME:CEST
END:DAYLIGHT
END:VTIMEZONE
BEGIN:VEVENT
UID:iai/news3553
DTSTAMP:20250213T123148Z
DTSTART:20250205T170000Z
DTEND:20250205T183000Z
SUMMARY:Wifredo Lam’s Transcultural Surrealism
DESCRIPTION:Más información: https://www.iai.spk-berlin.de/es/eventos/calendario-de-eventos/evento/05-02-2025_wifredo-lams-transcultural-surrealism.html
END:VEVENT
END:VCALENDAR
