BEGIN:VCALENDAR
VERSION:2.0
PRODID:UR_EVENTS
BEGIN:VTIMEZONE
TZID:Europe/Berlin
LAST-MODIFIED:20231023T084849Z
BEGIN:STANDARD
DTSTART:20231029T030000
RRULE:FREQ=YEARLY;BYMONTH=10;BYDAY=-1SU
TZOFFSETFROM:+0200
TZOFFSETTO:+0100
TZNAME:CET
END:STANDARD
BEGIN:DAYLIGHT
DTSTART:20240331T020000
RRULE:FREQ=YEARLY;BYMONTH=3;BYDAY=-1SU
TZOFFSETFROM:+0100
TZOFFSETTO:+0200
TZNAME:CEST
END:DAYLIGHT
END:VTIMEZONE
BEGIN:VEVENT
UID:iai/news695
DTSTAMP:20240619T164025Z
DTSTART:20131128T230000Z
DTEND:20131130T230000Z
SUMMARY:Wissensakteure und Grenzwissen zwischen Lateinamerika und Europa um 1900
DESCRIPTION:Further information: https://www.iai.spk-berlin.de/en/events/events-calendar/event/29-11-2013_wissensakteure-und-grenzwissen-zwischen-lateinamerika-und-europa-um-1900.html
END:VEVENT
END:VCALENDAR
