BEGIN:VCALENDAR
VERSION:2.0
PRODID:UR_EVENTS
BEGIN:VTIMEZONE
TZID:Europe/Berlin
LAST-MODIFIED:20231023T084849Z
BEGIN:STANDARD
DTSTART:20231029T030000
RRULE:FREQ=YEARLY;BYMONTH=10;BYDAY=-1SU
TZOFFSETFROM:+0200
TZOFFSETTO:+0100
TZNAME:CET
END:STANDARD
BEGIN:DAYLIGHT
DTSTART:20240331T020000
RRULE:FREQ=YEARLY;BYMONTH=3;BYDAY=-1SU
TZOFFSETFROM:+0100
TZOFFSETTO:+0200
TZNAME:CEST
END:DAYLIGHT
END:VTIMEZONE
BEGIN:VEVENT
UID:iai/news1514
DTSTAMP:20241122T141414Z
DTSTART:20240918T150000Z
DTEND:20240918T220000Z
SUMMARY:Cancioneros populares y prácticas culturales de la sociedad chilena a comienzos del 1900
DESCRIPTION:Further information: https://www.iai.spk-berlin.de/en/events/events-calendar/event/18-09-2024_cancioneros-populares-y-practicas-culturales-de-la-sociedad-chilena-a-comienzos-del-1900.html
END:VEVENT
END:VCALENDAR
