BEGIN:VCALENDAR
VERSION:2.0
PRODID:UR_EVENTS
BEGIN:VTIMEZONE
TZID:Europe/Berlin
LAST-MODIFIED:20231023T084849Z
BEGIN:STANDARD
DTSTART:20231029T030000
RRULE:FREQ=YEARLY;BYMONTH=10;BYDAY=-1SU
TZOFFSETFROM:+0200
TZOFFSETTO:+0100
TZNAME:CET
END:STANDARD
BEGIN:DAYLIGHT
DTSTART:20240331T020000
RRULE:FREQ=YEARLY;BYMONTH=3;BYDAY=-1SU
TZOFFSETFROM:+0100
TZOFFSETTO:+0200
TZNAME:CEST
END:DAYLIGHT
END:VTIMEZONE
BEGIN:VEVENT
UID:iai/news6200
DTSTAMP:20260423T113833Z
DTSTART:20260512T160000Z
DTEND:20260512T173000Z
SUMMARY:Un archivo en el que todo confluye. Sobre los procesos de datificación, plataformización y virtualización del sonido
DESCRIPTION:Further information: https://www.iai.spk-berlin.de/en/events/events-calendar/event/12-05-2026_un-archivo-en-el-que-todo-confluye.html
END:VEVENT
END:VCALENDAR
