BEGIN:VCALENDAR
VERSION:2.0
PRODID:UR_EVENTS
BEGIN:VTIMEZONE
TZID:Europe/Berlin
LAST-MODIFIED:20231023T084849Z
BEGIN:STANDARD
DTSTART:20231029T030000
RRULE:FREQ=YEARLY;BYMONTH=10;BYDAY=-1SU
TZOFFSETFROM:+0200
TZOFFSETTO:+0100
TZNAME:CET
END:STANDARD
BEGIN:DAYLIGHT
DTSTART:20240331T020000
RRULE:FREQ=YEARLY;BYMONTH=3;BYDAY=-1SU
TZOFFSETFROM:+0100
TZOFFSETTO:+0200
TZNAME:CEST
END:DAYLIGHT
END:VTIMEZONE
BEGIN:VEVENT
UID:iai/news5432
DTSTAMP:20250325T180726Z
DTSTART:20250410T160000Z
DTEND:20250410T180000Z
SUMMARY:100 Jahre Ernesto Cardenal – Rezeption, Bedeutung und Aktualität eines Dichters, Priesters und Revolutionärs
DESCRIPTION:Further information: https://www.iai.spk-berlin.de/en/events/events-calendar/event/10-04-2025_100-jahre-ernesto-cardenal-rezeption-bedeutung-und-aktualitaet-eines-dichters-priesters-und-revolutionaers.html
END:VEVENT
END:VCALENDAR
